BEGIN:VCALENDAR
VERSION:2.0
PRODID:-//hacksw/handcal//NONSGML v1.0//EN
CALSCALE:GREGORIAN
BEGIN:VTIMEZONE
TZID:America/Denver
BEGIN:DAYLIGHT
TZOFFSETFROM:-0600
TZNAME:MDT
TZOFFSETTO:-0600
END:DAYLIGHT
END:VTIMEZONE
DTSTAMP:20260421T193009Z
UID:69e824a15ae6e
BEGIN:VEVENT
DESCRIPTION:<p>All Summit County Library branches will be closed on Friday, July 3 and Saturday, July 4, in observance of Independence Day. Normal hours will resume on Monday, July 6.&nbsp;</p>
DTSTART;TZID=America/Denver:20260703T000000
DTEND;TZID=America/Denver:20260704T235900
SUMMARY:All Libraries Closed for Independence Day
URL;VALUE=URI:/all-libraries-closed-independence-day-0
END:VEVENT
END:VCALENDAR