BEGIN:VCALENDAR
VERSION:2.0
PRODID:-//hacksw/handcal//NONSGML v1.0//EN
CALSCALE:GREGORIAN
BEGIN:VTIMEZONE
TZID:America/Denver
BEGIN:DAYLIGHT
TZOFFSETFROM:-0600
TZNAME:MDT
TZOFFSETTO:-0600
END:DAYLIGHT
END:VTIMEZONE
DTSTAMP:20260419T110040Z
UID:69e50a3856743
BEGIN:VEVENT
DESCRIPTION:<p>The Kamas Valley and Kimball Junction Branches will be closed on Wednesday, December 10 from 11:00am - 2:00pm so employees can attend the County's holiday party. The Coalville Branch will remain open.</p>
DTSTART;TZID=America/Denver:20251210T110000
DTEND;TZID=America/Denver:20251210T140000
SUMMARY:Holiday Party Closure
URL;VALUE=URI:/holiday-party-closure-0
END:VEVENT
END:VCALENDAR