BEGIN:VCALENDAR
VERSION:2.0
PRODID:-//hacksw/handcal//NONSGML v1.0//EN
CALSCALE:GREGORIAN
BEGIN:VTIMEZONE
TZID:America/Denver
BEGIN:DAYLIGHT
TZOFFSETFROM:-0600
TZNAME:MDT
TZOFFSETTO:-0600
END:DAYLIGHT
END:VTIMEZONE
DTSTAMP:20260420T225419Z
UID:69e702fbb6b1b
BEGIN:VEVENT
DESCRIPTION:<p>All Summit County Library branches will be closed on Monday, May 25&nbsp;for Memorial Day. Regular&nbsp;hours will resume on Tuesday, May 26.</p>
DTSTART;TZID=America/Denver:20260525T000000
DTEND;TZID=America/Denver:20260525T235900
SUMMARY:All Libraries Closed for Memorial Day
URL;VALUE=URI:/all-libraries-closed-memorial-day-0
END:VEVENT
END:VCALENDAR