BEGIN:VCALENDAR
VERSION:2.0
PRODID:-//hacksw/handcal//NONSGML v1.0//EN
CALSCALE:GREGORIAN
BEGIN:VTIMEZONE
TZID:America/Denver
BEGIN:DAYLIGHT
TZOFFSETFROM:-0600
TZNAME:MDT
TZOFFSETTO:-0600
END:DAYLIGHT
END:VTIMEZONE
DTSTAMP:20260421T193051Z
UID:69e824cb41796
BEGIN:VEVENT
DESCRIPTION:<p>All Summit County Library branches will be closed on Friday, July 24&nbsp;and Saturday, July 25 for the Pioneer&nbsp;Day holiday. Regular&nbsp;hours will resume on Monday, July 27.&nbsp;</p>
DTSTART;TZID=America/Denver:20260724T000000
DTEND;TZID=America/Denver:20260725T235900
SUMMARY:All Libraries Closed for Pioneer Day
URL;VALUE=URI:/all-libraries-closed-pioneer-day-0
END:VEVENT
END:VCALENDAR