BEGIN:VCALENDAR
VERSION:2.0
PRODID:-//hacksw/handcal//NONSGML v1.0//EN
CALSCALE:GREGORIAN
BEGIN:VTIMEZONE
TZID:America/Denver
BEGIN:DAYLIGHT
TZOFFSETFROM:-0600
TZNAME:MDT
TZOFFSETTO:-0600
END:DAYLIGHT
END:VTIMEZONE
DTSTAMP:20260419T193802Z
UID:69e5837a7e5a5
BEGIN:VEVENT
DESCRIPTION:<p>All Summit County Library branches will be closed on Monday, October 12&nbsp;for staff training. Regular&nbsp;hours&nbsp;will resume on Tuesday, October 13.&nbsp;</p>
DTSTART;TZID=America/Denver:20261012T000000
DTEND;TZID=America/Denver:20261012T235900
SUMMARY:All Libraries Closed for Staff Training
URL;VALUE=URI:/all-libraries-closed-staff-training-0
END:VEVENT
END:VCALENDAR