BEGIN:VCALENDAR
VERSION:2.0
PRODID:-//hacksw/handcal//NONSGML v1.0//EN
CALSCALE:GREGORIAN
BEGIN:VTIMEZONE
TZID:America/Denver
BEGIN:DAYLIGHT
TZOFFSETFROM:-0600
TZNAME:MDT
TZOFFSETTO:-0600
END:DAYLIGHT
END:VTIMEZONE
DTSTAMP:20260419T185742Z
UID:69e57a06bc1ff
BEGIN:VEVENT
DESCRIPTION:<p><span style="-webkit-text-stroke-width:0px;background-color:rgb(254, 254, 254);color:rgb(68, 68, 68);display:inline !important;float:none;font-family:Helvetica, Arial, sans-serif;font-size:16px;font-style:normal;font-variant-caps:normal;font-variant-ligatures:normal;font-weight:400;letter-spacing:normal;orphans:2;text-align:start;text-decoration-color:initial;text-decoration-style:initial;text-decoration-thickness:initial;text-indent:0px;text-transform:none;white-space:normal;widows:2;word-spacing:0px;">All Summit County Library branches will be closed on Tuesday, November 11&nbsp;for Veterans Day. Regular&nbsp;hours will resume on Wednesday, November 12.</span></p>
DTSTART;TZID=America/Denver:20251111T000000
DTEND;TZID=America/Denver:20251111T235900
SUMMARY:All Libraries Closed for Veterans Day
URL;VALUE=URI:/all-libraries-closed-veterans-day-0
END:VEVENT
END:VCALENDAR